BEGIN:VCALENDAR
VERSION:2.0
PRODID:-//Shine Together Events - ECPv6.15.12.2//NONSGML v1.0//EN
CALSCALE:GREGORIAN
METHOD:PUBLISH
X-ORIGINAL-URL:https://www.shinetogetherevents.com
X-WR-CALDESC:Veranstaltungen für Shine Together Events
REFRESH-INTERVAL;VALUE=DURATION:PT1H
X-Robots-Tag:noindex
X-PUBLISHED-TTL:PT1H
BEGIN:VTIMEZONE
TZID:Europe/Vienna
BEGIN:DAYLIGHT
TZOFFSETFROM:+0100
TZOFFSETTO:+0200
TZNAME:CEST
DTSTART:20240331T010000
END:DAYLIGHT
BEGIN:STANDARD
TZOFFSETFROM:+0200
TZOFFSETTO:+0100
TZNAME:CET
DTSTART:20241027T010000
END:STANDARD
BEGIN:DAYLIGHT
TZOFFSETFROM:+0100
TZOFFSETTO:+0200
TZNAME:CEST
DTSTART:20250330T010000
END:DAYLIGHT
BEGIN:STANDARD
TZOFFSETFROM:+0200
TZOFFSETTO:+0100
TZNAME:CET
DTSTART:20251026T010000
END:STANDARD
BEGIN:DAYLIGHT
TZOFFSETFROM:+0100
TZOFFSETTO:+0200
TZNAME:CEST
DTSTART:20260329T010000
END:DAYLIGHT
BEGIN:STANDARD
TZOFFSETFROM:+0200
TZOFFSETTO:+0100
TZNAME:CET
DTSTART:20261025T010000
END:STANDARD
BEGIN:DAYLIGHT
TZOFFSETFROM:+0100
TZOFFSETTO:+0200
TZNAME:CEST
DTSTART:20270328T010000
END:DAYLIGHT
BEGIN:STANDARD
TZOFFSETFROM:+0200
TZOFFSETTO:+0100
TZNAME:CET
DTSTART:20271031T010000
END:STANDARD
END:VTIMEZONE
BEGIN:VEVENT
DTSTART;TZID=Europe/Vienna:20260206T220000
DTEND;TZID=Europe/Vienna:20260207T030000
DTSTAMP:20260421T135612
CREATED:20251215T225022Z
LAST-MODIFIED:20251215T225100Z
UID:624-1770415200-1770433200@www.shinetogetherevents.com
SUMMARY:Musical Club Night
DESCRIPTION:On February 6th\, U4 Vienna turns into a full musical universe –from Broadway to West End to Vienna’s musical stages.
URL:https://www.shinetogetherevents.com/event/musical-club-night/
LOCATION:U4 Vienna\, Schönbrunnerstraße 222\, Wien\, Wien\, 1120\, Austria
CATEGORIES:Broadwayparty Vienna
ATTACH;FMTTYPE=image/jpeg:https://www.shinetogetherevents.com/wp-content/uploads/2025/12/Instagram-400x500-1-scaled.jpg
ORGANIZER;CN="Shine Together Events e.U.":MAILTO:office@shinetogetherevents.com
END:VEVENT
BEGIN:VEVENT
DTSTART;TZID=Europe/Vienna:20260117T190000
DTEND;TZID=Europe/Vienna:20260117T210000
DTSTAMP:20260421T135612
CREATED:20251214T173502Z
LAST-MODIFIED:20251214T173817Z
UID:616-1768676400-1768683600@www.shinetogetherevents.com
SUMMARY:Movie Soundtrack Pubquiz
DESCRIPTION:A night for movie lovers and music fans – with questions about iconic soundtracks\, scenes\, and composers.Team up\, test your knowledge\, and experience the movies through their music.
URL:https://www.shinetogetherevents.com/event/movie-soundtrack-pubquiz/
LOCATION:Pickwicks\, Marc-Aurel-Straße 10-12\, Wien\, Wien\, 1010\, Austria
ATTACH;FMTTYPE=image/png:https://www.shinetogetherevents.com/wp-content/uploads/2025/12/12.png
ORGANIZER;CN="Shine Together Events e.U.":MAILTO:office@shinetogetherevents.com
END:VEVENT
BEGIN:VEVENT
DTSTART;TZID=Europe/Vienna:20260116T190000
DTEND;TZID=Europe/Vienna:20260116T210000
DTSTAMP:20260421T135612
CREATED:20251214T173321Z
LAST-MODIFIED:20251214T173752Z
UID:614-1768590000-1768597200@www.shinetogetherevents.com
SUMMARY:One Direction Pubquiz
DESCRIPTION:A night for all Directioners – covering songs\, eras\, lyrics\, and iconic moments.Play in teams\, prove your fandom\, and relive the best years of One Direction.
URL:https://www.shinetogetherevents.com/event/one-direction-pubquiz/
LOCATION:Mama Liu & Sons Burger\, Lange Gasse 74\, Wien\, Wien\, 1080\, Austria
CATEGORIES:Pubquiz
ATTACH;FMTTYPE=image/png:https://www.shinetogetherevents.com/wp-content/uploads/2025/12/11.png
ORGANIZER;CN="Shine Together Events e.U.":MAILTO:office@shinetogetherevents.com
END:VEVENT
BEGIN:VEVENT
DTSTART;TZID=Europe/Vienna:20260109T190000
DTEND;TZID=Europe/Vienna:20260109T210000
DTSTAMP:20260421T135612
CREATED:20251214T173232Z
LAST-MODIFIED:20251214T173723Z
UID:612-1767985200-1767992400@www.shinetogetherevents.com
SUMMARY:Disney Pubquiz
DESCRIPTION:A magical night for Disney fans – with questions about movies\, characters\, songs\, and unforgettable scenes.Play in teams\, test your Disney knowledge\, and relive the magic.
URL:https://www.shinetogetherevents.com/event/disney-pubquiz/
LOCATION:Mama Liu & Sons Burger\, Lange Gasse 74\, Wien\, Wien\, 1080\, Austria
CATEGORIES:Pubquiz
ATTACH;FMTTYPE=image/png:https://www.shinetogetherevents.com/wp-content/uploads/2025/12/10.png
ORGANIZER;CN="Shine Together Events e.U.":MAILTO:office@shinetogetherevents.com
END:VEVENT
BEGIN:VEVENT
DTSTART;TZID=Europe/Vienna:20260102T190000
DTEND;TZID=Europe/Vienna:20260102T210000
DTSTAMP:20260421T135612
CREATED:20251214T173136Z
LAST-MODIFIED:20251214T173659Z
UID:605-1767380400-1767387600@www.shinetogetherevents.com
SUMMARY:All Things Musical Pubquiz
DESCRIPTION:A night for everyone who loves musicals – from Broadway classics to modern hits.Team up\, answer questions about shows\, songs\, and iconic moments\, and celebrate everything musical.
URL:https://www.shinetogetherevents.com/event/all-things-musical-pubquiz/
LOCATION:Mama Liu & Sons Burger\, Lange Gasse 74\, Wien\, Wien\, 1080\, Austria
CATEGORIES:Pubquiz
ATTACH;FMTTYPE=image/png:https://www.shinetogetherevents.com/wp-content/uploads/2025/12/9.png
ORGANIZER;CN="Shine Together Events e.U.":MAILTO:office@shinetogetherevents.com
END:VEVENT
BEGIN:VEVENT
DTSTART;TZID=Europe/Vienna:20251227T193000
DTEND;TZID=Europe/Vienna:20251227T230000
DTSTAMP:20260421T135612
CREATED:20251209T222811Z
LAST-MODIFIED:20251209T222811Z
UID:598-1766863800-1766876400@www.shinetogetherevents.com
SUMMARY:One Direction Tribute Night
DESCRIPTION:Vienna\, get ready! 🤍\nOn December 27th\, we’re bringing the ultimate One Direction Tribute Night to U4 Vienna — a full evening dedicated to all the hits\, all the memories\, and every moment that made us fall in love with the boys.
URL:https://www.shinetogetherevents.com/event/one-direction-tribute-night/
LOCATION:U4 Vienna\, Schönbrunnerstraße 222\, Wien\, Wien\, 1120\, Austria
CATEGORIES:Shine Together Events
ATTACH;FMTTYPE=image/jpeg:https://www.shinetogetherevents.com/wp-content/uploads/2025/12/Instagram-500x400-1.jpg
ORGANIZER;CN="Shine Together Events e.U.":MAILTO:office@shinetogetherevents.com
END:VEVENT
BEGIN:VEVENT
DTSTART;TZID=Europe/Vienna:20251219T190000
DTEND;TZID=Europe/Vienna:20251219T210000
DTSTAMP:20260421T135612
CREATED:20251112T202629Z
LAST-MODIFIED:20251204T170954Z
UID:368-1766170800-1766178000@www.shinetogetherevents.com
SUMMARY:Glee Pubquiz
DESCRIPTION:A night for all fans of Glee – with questions about the show’s characters\, episodes\, songs\, and behind-the-scenes moments. Play in teams\, test your knowledge\, and relive the best moments from McKinley High.
URL:https://www.shinetogetherevents.com/event/glee-pubquiz/
LOCATION:Mama Liu & Sons Burger\, Lange Gasse 74\, Wien\, Wien\, 1080\, Austria
CATEGORIES:Pubquiz
ATTACH;FMTTYPE=image/png:https://www.shinetogetherevents.com/wp-content/uploads/2025/11/Dezember-25-Glee.png
ORGANIZER;CN="Shine Together Events e.U.":MAILTO:office@shinetogetherevents.com
END:VEVENT
BEGIN:VEVENT
DTSTART;TZID=Europe/Vienna:20251212T190000
DTEND;TZID=Europe/Vienna:20251212T210000
DTSTAMP:20260421T135612
CREATED:20251112T202526Z
LAST-MODIFIED:20251112T202526Z
UID:365-1765566000-1765573200@www.shinetogetherevents.com
SUMMARY:Taylor Swift Pubquiz
DESCRIPTION:An evening for all Swifties and music lovers – with questions about Taylor’s songs\, albums\, lyrics\, and career highlights. Play in teams\, test your knowledge\, and enjoy a fun night celebrating all things Taylor Swift.
URL:https://www.shinetogetherevents.com/event/taylor-swift-pubquiz/
LOCATION:Mama Liu & Sons Burger\, Lange Gasse 74\, Wien\, Wien\, 1080\, Austria
ATTACH;FMTTYPE=image/png:https://www.shinetogetherevents.com/wp-content/uploads/2025/11/Dezember-25-Taylor-Swift.png
ORGANIZER;CN="Shine Together Events e.U.":MAILTO:office@shinetogetherevents.com
END:VEVENT
BEGIN:VEVENT
DTSTART;TZID=Europe/Vienna:20251205T190000
DTEND;TZID=Europe/Vienna:20251205T210000
DTSTAMP:20260421T135612
CREATED:20251110T143337Z
LAST-MODIFIED:20251204T121402Z
UID:356-1764961200-1764968400@www.shinetogetherevents.com
SUMMARY:Hamilton Pubquiz
DESCRIPTION:An evening dedicated to Hamilton – with questions about the musical\, its characters\, and the real history behind it. Play in teams\, test your knowledge\, and enjoy a relaxed night of trivia and fun.
URL:https://www.shinetogetherevents.com/event/hamilton-pubquiz/
LOCATION:Mama Liu & Sons Burger\, Lange Gasse 74\, Wien\, Wien\, 1080\, Austria
ATTACH;FMTTYPE=image/png:https://www.shinetogetherevents.com/wp-content/uploads/2025/11/Dezember-25-Hamilton.png
ORGANIZER;CN="Shine Together Events e.U.":MAILTO:office@shinetogetherevents.com
END:VEVENT
END:VCALENDAR